Workbook
Name SummeMonatlicheAusgaben: Ausgabentagebuch!#REF!
Name SummeMonatlicheAusgaben: #REF!
Name SummeMonatlicheEinkünfte: Ausgabentagebuch!#REF!
Name SummeMonatlicheEinkünfte: #REF!
Name SummeMonatlicheSpareinlagen: Ausgabentagebuch!#REF!
Name SummeMonatlicheSpareinlagen: #REF!

Sheet Ausgabentagebuch
B2: Mein Ausgabentagebuch
B4: Übersicht
C5: SUMME VARIABLE AUSGABEN | G5: Datum Start Ausgabentagebuch
C6: =SUBTOTAL(9,D16:D100000) -> 0 | G6: =MIN(B16:B99986) -> 0
C8: VARIABLE AUSGABEN HOCHRECHNUNG AUF 1 MONAT | G8: Datum letzter Eintrag
C9: <
C10: =C13/12 -> 0 | G10: =MAX(B16:B99989) -> 0
C11: VARIABLE AUSGABEN HOCHRECHNUNG AUF 1 JAHR | G11: Anzahl der Tage
C13: =C6/G13*365 -> 0 | G13: =IF(G6="","",G10-G6+1) -> 1
B15: DATUM | C15: WER & WAS & WO | D15: BETRAG | E15: NOTIZEN (WICHTIGSTES FELD): DETAILS UND HINWEISE ZUR AUSGABE? WARUM AUSGEGEBEN? GEFÜHLE & GEDANKEN? WIE WAREN UMSTÄNDE UND UMGEBUNG? | F15: WOCHENTAG | G15: KATEGORIE
F16: =IF(Budget[[#This Row],[DATUM]]="","",TEXT(Budget[[#This Row],[DATUM]],"TTTT"))
F17: =IF(Budget[[#This Row],[DATUM]]="","",TEXT(Budget[[#This Row],[DATUM]],"TTTT"))
F18: =IF(Budget[[#This Row],[DATUM]]="","",TEXT(Budget[[#This Row],[DATUM]],"TTTT"))
F19: =IF(Budget[[#This Row],[DATUM]]="","",TEXT(Budget[[#This Row],[DATUM]],"TTTT"))
F20: =IF(Budget[[#This Row],[DATUM]]="","",TEXT(Budget[[#This Row],[DATUM]],"TTTT"))
F21: =IF(Budget[[#This Row],[DATUM]]="","",TEXT(Budget[[#This Row],[DATUM]],"TTTT"))
F22: =IF(Budget[[#This Row],[DATUM]]="","",TEXT(Budget[[#This Row],[DATUM]],"TTTT"))
F23: =IF(Budget[[#This Row],[DATUM]]="","",TEXT(Budget[[#This Row],[DATUM]],"TTTT"))
F24: =IF(Budget[[#This Row],[DATUM]]="","",TEXT(Budget[[#This Row],[DATUM]],"TTTT"))
F25: =IF(Budget[[#This Row],[DATUM]]="","",TEXT(Budget[[#This Row],[DATUM]],"TTTT"))
F26: =IF(Budget[[#This Row],[DATUM]]="","",TEXT(Budget[[#This Row],[DATUM]],"TTTT"))
F27: =IF(Budget[[#This Row],[DATUM]]="","",TEXT(Budget[[#This Row],[DATUM]],"TTTT"))
... F704: =IF(Budget[[#This Row],[DATUM]]="","",TEXT(Budget[[#This Row],[DATUM]],"TTTT"))

Sheet Kategorien
A1: Meine variablen Ausgabenkategorien
A3: Kategorien | B3: Hochrechnung auf 1 Monat | C3: % | D3: Was gehört dazu (KEINE ABOS!)
A4: Lebensmittel | B4: =(SUMIF(Ausgabentagebuch!$G$16:$G$100000,A4,Ausgabentagebuch!$D$16:$D$9984))/Ausgabentagebuch!$G$13*365/12 -> 0 | C4: =B4/SUM($B$4:$B$16) -> #DIV/0! | D4: Getränke, Lebensmittel Supermarkt, Grundartikel vom Bäcker/Metzger (wie unbelegte Brötchen, Brot, Aufstriche, Wurstbelag), Nahrungsergänzungsmittel | E4: =IF(B4=0,NA(),B4) -> #N/A
A5: Auswärts essen & to go | B5: =(SUMIF(Ausgabentagebuch!$G$16:$G$100000,A5,Ausgabentagebuch!$D$16:$D$9984))/Ausgabentagebuch!$G$13*365/12 -> 0 | C5: =B5/SUM($B$4:$B$16) -> #DIV/0! | D5: Restaurant, Café, Mittagspause, Döner, Lieferservice, Kantine, Kiosk, Späti, Artikel von Tankstelle, Convienence Artikel vom Bäcker/Metzger (zb Kaffee, Sandwich, Kuchen), Kirmes, Weihnachtsmarkt, togo | E5: =IF(B5=0,NA(),B5) -> #N/A
A6: Hygiene, Gesundheit, Wohlbefinden | B6: =(SUMIF(Ausgabentagebuch!$G$16:$G$100000,A6,Ausgabentagebuch!$D$16:$D$9984))/Ausgabentagebuch!$G$13*365/12 -> 0 | C6: =B6/SUM($B$4:$B$16) -> #DIV/0! | D6: Wasch- und Reinigungssartikel, Drogerie, Apotheke, Arzt, Windeln, Friseur, Massagen, Kosmetik, Haut-, Haar- und Nägelbehandlung & -produkte, Schönheitsbehandlungen, Tatoos, Piercings | E6: =IF(B6=0,NA(),B6) -> #N/A
A7: Haushalt | B7: =(SUMIF(Ausgabentagebuch!$G$16:$G$100000,A7,Ausgabentagebuch!$D$16:$D$9984))/Ausgabentagebuch!$G$13*365/12 -> 0 | C7: =B7/SUM($B$4:$B$16) -> #DIV/0! | D7: Büro- und Arbeitsbedarf, Wohnungs- und Haushaltsausstattung, Deko, Reparaturen, Baumarkt, Mahngebühr, Nachzahlungen | E7: =IF(B7=0,NA(),B7) -> #N/A
A8: Freizeit | B8: =(SUMIF(Ausgabentagebuch!$G$16:$G$100000,A8,Ausgabentagebuch!$D$16:$D$9984))/Ausgabentagebuch!$G$13*365/12 -> 0 | C8: =B8/SUM($B$4:$B$16) -> #DIV/0! | D8: Ausflüge, Aktivitäten, Ausgehen, Treffen mit Freunden, Feier & Feste, Fitness, Einladungen, Eintritte, Urlaub, Reisen, Kino, Hobbys, Unterhaltung, Bücher, Zeitschriften, Filme, Spiele, Elektronik + Technik, Sportgerät, Lotto | E8: =IF(B8=0,NA(),B8) -> #N/A
A9: Soziales | B9: =(SUMIF(Ausgabentagebuch!$G$16:$G$100000,A9,Ausgabentagebuch!$D$16:$D$9984))/Ausgabentagebuch!$G$13*365/12 -> 0 | C9: =B9/SUM($B$4:$B$16) -> #DIV/0! | D9: Gefallen, Geschenke, Spenden, Einladung, Trinkgeld | E9: =IF(B9=0,NA(),B9) -> #N/A
A10: Kleidung | B10: =(SUMIF(Ausgabentagebuch!$G$16:$G$100000,A10,Ausgabentagebuch!$D$16:$D$9984))/Ausgabentagebuch!$G$13*365/12 -> 0 | C10: =B10/SUM($B$4:$B$16) -> #DIV/0! | D10: Kleidung, Schuhe, Schmuck, Taschen, Pflegemittel | E10: =IF(B10=0,NA(),B10) -> #N/A
A11: Kinderbedarf | B11: =(SUMIF(Ausgabentagebuch!$G$16:$G$100000,A11,Ausgabentagebuch!$D$16:$D$9984))/Ausgabentagebuch!$G$13*365/12 -> 0 | C11: =B11/SUM($B$4:$B$16) -> #DIV/0! | D11: Kinderbetreuung, Essensgeld Schule/Kita, Schulmaterialien, Schulausflug, Nachhilfe, variables Taschengeld | E11: =IF(B11=0,NA(),B11) -> #N/A
A12: Tiere | B12: =(SUMIF(Ausgabentagebuch!$G$16:$G$100000,A12,Ausgabentagebuch!$D$16:$D$9984))/Ausgabentagebuch!$G$13*365/12 -> 0 | C12: =B12/SUM($B$4:$B$16) -> #DIV/0! | D12: Nahrung, Hygiene, Gesundheit | E12: =IF(B12=0,NA(),B12) -> #N/A
A13: Mobilität | B13: =(SUMIF(Ausgabentagebuch!$G$16:$G$100000,A13,Ausgabentagebuch!$D$16:$D$9984))/Ausgabentagebuch!$G$13*365/12 -> 0 | C13: =B13/SUM($B$4:$B$16) -> #DIV/0! | D13: Tanken, Taxi, Parken, Öffis, Tüv, Strafzettel, Reparaturen | E13: =IF(B13=0,NA(),B13) -> #N/A
A14: Bildung | B14: =(SUMIF(Ausgabentagebuch!$G$16:$G$100000,A14,Ausgabentagebuch!$D$16:$D$9984))/Ausgabentagebuch!$G$13*365/12 -> 0 | C14: =B14/SUM($B$4:$B$16) -> #DIV/0! | D14: Bücher, Coachings, Kurse, Aus- & Weiterbildung | E14: =IF(B14=0,NA(),B14) -> #N/A
A15: Ggf. weitere Kategorie | B15: =(SUMIF(Ausgabentagebuch!$G$16:$G$100000,A15,Ausgabentagebuch!$D$16:$D$9984))/Ausgabentagebuch!$G$13*365/12 -> 0 | C15: =B15/SUM($B$4:$B$16) -> #DIV/0! | D15: Hier kannst du notieren, was in diese Kategorie gehört | E15: =IF(B15=0,NA(),B15) -> #N/A
... A19: Ggf. weitere Kategorie | B19: =(SUMIF(Ausgabentagebuch!$G$16:$G$100000,A19,Ausgabentagebuch!$D$16:$D$9984))/Ausgabentagebuch!$G$13*365/12 -> 0 | C19: =B19/SUM($B$4:$B$16) -> #DIV/0! | D19: Hier kannst du notieren, was in diese Kategorie gehört | E19: =IF(B19=0,NA(),B19) -> #N/A

Sheet Daten
A1: Aufteilung Budget
A2: Fixe Ausgaben | B2: =#REF! -> #REF!
A3: Variable Ausgaben | B3: =#REF! -> #REF!
A4: Schuldenabbau | B4: =#REF! -> #REF!
A5: Puffer | B5: =SummeMonatlicheAusgaben -> #REF!
A6: Sparen | B6: =#REF! -> #REF!
A7: Offen | B7: =#REF!-(SUM(B2:B6)) -> #REF!

Sheet Diagrammdaten
B2: DIAGRAMMDATEN
B4: =MIN(1-B5,1) -> #REF!
B5: =MIN(SummeMonatlicheAusgaben/SummeMonatlicheEinkünfte,1) -> #REF!
B6: =(SummeMonatlicheAusgaben/SummeMonatlicheEinkünfte)>1 -> #REF!
